BEGIN:VCALENDAR
VERSION:2.0
PRODID:-//Daniel Rachel - ECPv6.15.20//NONSGML v1.0//EN
CALSCALE:GREGORIAN
METHOD:PUBLISH
X-WR-CALNAME:Daniel Rachel
X-ORIGINAL-URL:https://danielrachel.com
X-WR-CALDESC:Events for Daniel Rachel
REFRESH-INTERVAL;VALUE=DURATION:PT1H
X-Robots-Tag:noindex
X-PUBLISHED-TTL:PT1H
BEGIN:VTIMEZONE
TZID:UTC
BEGIN:STANDARD
TZOFFSETFROM:+0000
TZOFFSETTO:+0000
TZNAME:UTC
DTSTART:20120101T000000
END:STANDARD
END:VTIMEZONE
BEGIN:VEVENT
DTSTART;TZID=UTC:20131208T023000
DTEND;TZID=UTC:20131208T044000
DTSTAMP:20260421T112314
CREATED:20131218T104401Z
LAST-MODIFIED:20131218T104401Z
UID:3001-1386469800-1386477600@danielrachel.com
SUMMARY:BBC Radio 5
DESCRIPTION:Up All Night with Dotun Adebayo \nBBC 5 LIVE: Daniel is the special guest on Dotun Adebayo’s Virtual Jukebox from 02.35am \nYour chance to help Dotun and Daniel pick the latest addition to Up All Night’s eclectic music collection. To take part\, call 0500 909 693 (free from most landlines; other networks and mobiles may\ncharge). Text 85058 (standard rate). Email upallnight@bbc.co.uk \nVirtual Jukebox
URL:https://danielrachel.com/event/bbc-radio-5/
END:VEVENT
BEGIN:VEVENT
DTSTART;TZID=UTC:20131204T120000
DTEND;TZID=UTC:20131204T123000
DTSTAMP:20260421T112314
CREATED:20131218T104224Z
LAST-MODIFIED:20131218T104224Z
UID:2991-1386158400-1386160200@danielrachel.com
SUMMARY:BBC 6 Music
DESCRIPTION:Lauren Laverne Show \n6 Music listen now
URL:https://danielrachel.com/event/bbc-6-music/
CATEGORIES:Radio
END:VEVENT
BEGIN:VEVENT
DTSTART;TZID=UTC:20131201T190000
DTEND;TZID=UTC:20131201T230000
DTSTAMP:20260421T112314
CREATED:20131218T103840Z
LAST-MODIFIED:20131218T103840Z
UID:2971-1385924400-1385938800@danielrachel.com
SUMMARY:Word In Your Ear
DESCRIPTION:We can now announce the full bill for this Sunday’s WORD IN YOUR EAR OPENS ITS ADVENT CALENDAR show at the Lexington (below). \nIn addition to PUGWASH\, who are Easyjetting in from Dublin just for this show\, and DREAM THEMES\, who are polishing their repertoire of classic TV themes for the evening\, we’re also delighted to announce:\nJake Morley\, singer and dazzling acoustic guitar player\, will be playing songs from his album Many Fish To Fry. \nHe’s also promised to do a Christmas song and explain the Everything Goes Back To Normal button so that should be good: \nDaniel Rachel\, writer of the acclaimed book about British songwriters Isle Of Noises\, will be talking to David Hepworth about his adventures securing the trade secrets of composers from Noel Gallagher to Lily Allen to Ray Davies. You can find out more here: http://www.isleofnoises.co.uk \nDaniel will also be signing his book for anyone looking for a Christmas present. \nThe show starts at seven and will be finished by ten and so what you get is what amounts to an indoor festival. It’s a cavalcade of entertainment\, information\, education and anecdotage. There are no flat spots\, there’s no hanging around shifting your weight from foot to foot and it will all be over at a civilised hour. It’s a school night after all. It’s the famous Word In Your Ear experience. \nGet your tickets here. Look out for the special discounted rates available for two- and four-ticket purchases. Like Christmas itself\, Word In Your Ear is best experienced shared with loved ones.
URL:https://danielrachel.com/event/word-in-your-ear/
END:VEVENT
BEGIN:VEVENT
DTSTART;TZID=UTC:20131125T134000
DTEND;TZID=UTC:20131125T135500
DTSTAMP:20260421T112314
CREATED:20131218T110137Z
LAST-MODIFIED:20131218T110137Z
UID:3121-1385386800-1385387700@danielrachel.com
SUMMARY:BBC Radio London
DESCRIPTION:Robert Elms Show \nListen Again to Robert Elms
URL:https://danielrachel.com/event/bbc-radio-london/
CATEGORIES:Radio
END:VEVENT
BEGIN:VEVENT
DTSTART;TZID=UTC:20131107T180000
DTEND;TZID=UTC:20131107T220000
DTSTAMP:20260421T112314
CREATED:20131218T110331Z
LAST-MODIFIED:20131218T110331Z
UID:3151-1383847200-1383861600@danielrachel.com
SUMMARY:Salon London
DESCRIPTION:In conversation. 7-10pm \nGuests: Tracey Thorn\, Xidus Pain\, Lloyd Bradley. \nTickets £15 \nsalon-london.com
URL:https://danielrachel.com/event/salon-london/
CATEGORIES:Appearance
END:VEVENT
BEGIN:VEVENT
DTSTART;TZID=UTC:20130718T080000
DTEND;TZID=UTC:20130720T170000
DTSTAMP:20260421T112314
CREATED:20131218T103152Z
LAST-MODIFIED:20131218T103152Z
UID:2951-1374134400-1374339600@danielrachel.com
SUMMARY:Latitude Festival
DESCRIPTION:Latitude Literary Death Match Picador Love Edition 9.30-11pm. Four Picador authors will battle to the deathin defending their literary thoughts on Love. Will Storr (The Heretics)\, Naomi Wood (The Godless Boys)Daniel Rachel (Isle Of Noises) and Lottie Moggach (Kiss Me First)
URL:https://danielrachel.com/event/latitude-festival/
END:VEVENT
END:VCALENDAR