BEGIN:VCALENDAR
VERSION:2.0
PRODID:-//Daniel Rachel - ECPv6.15.20//NONSGML v1.0//EN
CALSCALE:GREGORIAN
METHOD:PUBLISH
X-WR-CALNAME:Daniel Rachel
X-ORIGINAL-URL:https://danielrachel.com
X-WR-CALDESC:Events for Daniel Rachel
REFRESH-INTERVAL;VALUE=DURATION:PT1H
X-Robots-Tag:noindex
X-PUBLISHED-TTL:PT1H
BEGIN:VTIMEZONE
TZID:UTC
BEGIN:STANDARD
TZOFFSETFROM:+0000
TZOFFSETTO:+0000
TZNAME:UTC
DTSTART:20160101T000000
END:STANDARD
END:VTIMEZONE
BEGIN:VTIMEZONE
TZID:UTC
BEGIN:STANDARD
TZOFFSETFROM:+0000
TZOFFSETTO:+0000
TZNAME:UTC
DTSTART:20120101T000000
END:STANDARD
END:VTIMEZONE
BEGIN:VEVENT
DTSTART;TZID=UTC:20171027T020000
DTEND;TZID=UTC:20171027T153000
DTSTAMP:20260422T173113
CREATED:20170927T151657Z
LAST-MODIFIED:20170927T151657Z
UID:5765-1509069600-1509118200@danielrachel.com
SUMMARY:BBC 5 Live The Record Club David Bowie and Oasis
DESCRIPTION:The Record Club \nEach month The Record Club reappraises 5 star rated classic albums with special guest contributor Daniel Rachel \nEpisode 9: \nDavid Bowie Hunky Dory\n Oasis Definitely Maybe \n \n \n  \n  \nEpisode 8:\nThe Clash London Calling\nCarole King Tapestry \nEpisode 7:\nBeach Boys Pet Sounds\nRadiohead OK Computer \nEpisode 6:\nBlur Parklife\nU2 The Joshua Tree\n\nEpisode 5:\nPaul Simon Graceland\nDire Straits Brothers In Arms \nEpisode 4:\nMichael Jackson Off The Wall\nLed Zeppelin II \nEpisode 3:\nBruce Springsteen The River\nThe Specials Specials \nEpisode 2:\nJames Brown Live At the Apollo’ (1962)\nREM Automatic For The People \nEpisode 1:\nThe Beatles Revolver\nThe Human League Dare \nAre the albums still worthy of the 5 star reviews they received when originally released? PHONE IN AND SHARE YOUR THOUGHTS \nThursday/Friday 28/9 September June 2-3am      http://www.bbc.co.uk/programmes/b0070h86
URL:https://danielrachel.com/event/bbc-5-live-the-record-club-david-bowie-and-oasis/
CATEGORIES:Radio
ATTACH;FMTTYPE=:
END:VEVENT
BEGIN:VEVENT
DTSTART;TZID=UTC:20170929T020000
DTEND;TZID=UTC:20170929T030000
DTSTAMP:20260422T173113
CREATED:20170825T072127Z
LAST-MODIFIED:20170825T072127Z
UID:5718-1506650400-1506654000@danielrachel.com
SUMMARY:BBC 5 Live The Record Club: The Clash & Carole King
DESCRIPTION:The Record Club \nEach month The Record Club reappraises 5 star rated classic albums with special guest contributor Daniel Rachel \nEpisode 8:\nThe Clash London Calling\nCarole King Tapestry \n \n \n  \nEpisode 7:\nBeach Boys Pet Sounds\nRadiohead OK Computer \nEpisode 6:\nBlur Parklife\nU2 The Joshua Tree\n\nEpisode 5:\nPaul Simon Graceland\nDire Straits Brothers In Arms \nEpisode 4:\nMichael Jackson Off The Wall\nLed Zeppelin II \nEpisode 3:\nBruce Springsteen The River\nThe Specials Specials \nEpisode 2:\nJames Brown Live At the Apollo’ (1962)\nREM Automatic For The People \nEpisode 1:\nThe Beatles Revolver\nThe Human League Dare \nAre the albums still worthy of the 5 star reviews they received when originally released? PHONE IN AND SHARE YOUR THOUGHTS \nThursday/Friday 28/9 September June 2-3am      http://www.bbc.co.uk/programmes/b0070h86
URL:https://danielrachel.com/event/bbc-5-live-the-record-club-the-clash-carole-king/
CATEGORIES:Radio
ATTACH;FMTTYPE=:
END:VEVENT
BEGIN:VEVENT
DTSTART;TZID=UTC:20170825T020000
DTEND;TZID=UTC:20170825T150000
DTSTAMP:20260422T173113
CREATED:20170722T080455Z
LAST-MODIFIED:20170722T080455Z
UID:5711-1503626400-1503673200@danielrachel.com
SUMMARY:BBC 5 Live The Record Club: Beach Boys & Radiohead
DESCRIPTION:The Record Club \nEach month The Record Club reappraises 5 star rated classic albums with special guest contributor Daniel Rachel \nEpisode 7:\nThe Beach Boys Pet Sounds\nRadiohead OK Computer \n  \nEpisode 6:\nBlur Parklife\nU2 The Joshua Tree\n\nEpisode 5:\nPaul Simon Graceland\nDire Straits Brothers In Arms \nEpisode 4:\nMichael Jackson Off The Wall\nLed Zeppelin II \nEpisode 3:\nBruce Springsteen The River\nThe Specials Specials \nEpisode 2:\nJames Brown Live At the Apollo’ (1962)\nREM Automatic For The People \nEpisode 1:\nThe Beatles Revolver\nThe Human League Dare \nhttp://www.bbc.co.uk/programmes/b0070h86
URL:https://danielrachel.com/event/bbc-5-live-the-record-club-beach-boys-radiohead/
CATEGORIES:Radio
ATTACH;FMTTYPE=:
END:VEVENT
BEGIN:VEVENT
DTSTART;TZID=UTC:20170728T020000
DTEND;TZID=UTC:20170728T150000
DTSTAMP:20260422T173113
CREATED:20170703T075621Z
LAST-MODIFIED:20170703T075621Z
UID:5650-1501207200-1501254000@danielrachel.com
SUMMARY:BBC 5 Live The Record Club: Blur and U2
DESCRIPTION:Reappraising 5 star rated classic albums with Dotun Adebayo\, and special guest contributor Daniel Rachel \nEpisode 6:\nBlur Parklife\nU2 The Joshua Tree\n \n \n  \nEpisode 5:\nPaul Simon Graceland\nDire Straits Brothers In Arms \nEpisode 4:\nMichael Jackson Off The Wall\nLed Zeppelin II \nEpisode 3:\nBruce Springsteen The River\nThe Specials Specials \nEpisode 2:\nJames Brown ‘Live At the Apollo’ (1962)\nREM ‘Automatic For The People’ \nEpisode 1:\nThe Beatles ‘Revolver’\nThe Human League ‘Dare’
URL:https://danielrachel.com/event/bbc-5-live-the-record-club-3/
CATEGORIES:Radio
ATTACH;FMTTYPE=:
END:VEVENT
BEGIN:VEVENT
DTSTART;TZID=UTC:20170719T054000
DTEND;TZID=UTC:20170719T180000
DTSTAMP:20260422T173113
CREATED:20170703T074622Z
LAST-MODIFIED:20170703T074622Z
UID:5644-1500442800-1500487200@danielrachel.com
SUMMARY:BBC 6 Music Steve Lamacq Show
DESCRIPTION:Good Day Bad Days Special\nDaniel will be discussing his first single and gig\, Rachels Basement \, a chance encounter with Damon Albarn and his Good Day and Bad Day records \n.   \n\n\n\n\n\n\n\n\n\n\n\n\nSteve Lamacq\n\nSteve plays new and classic tracks from established artists\, young groups and unsigned bands \n\n\n\n\n\n\n\n\n\n\n\n\n\n\n\n\nView Programme \n\nAll episodes available on BBC iPlayer Radio (19 TOTAL) \n\n\n\n\n\n\nOn radio\n\n\n\n\nBBC RADIO 6 MUSIC
URL:https://danielrachel.com/event/bbc-6-music-steve-lamacq-show/
CATEGORIES:Radio
ATTACH;FMTTYPE=:
END:VEVENT
BEGIN:VEVENT
DTSTART;TZID=UTC:20170704T200000
DTEND;TZID=UTC:20170704T220000
DTSTAMP:20260422T173113
CREATED:20170703T072812Z
LAST-MODIFIED:20170703T072812Z
UID:5642-1499198400-1499205600@danielrachel.com
SUMMARY:Museum of Grooves
DESCRIPTION:The Museum of Grooves\nWith guests June Givanni and Daniel Rachel exploring the hidden history of African Cinema and Rock Against Racism. \nAlso listen to the best in funk\, disco\, soul from the 21st century. \nTune in live on http://live.canstream.co.uk:8000\n/reelrebels.mp3 \nReel Rebels Music Studios \n \n\n\n\n\n\n\n  \n\n\n\n\nJune Givanni  @JG_PACA African Cinema
URL:https://danielrachel.com/event/museum-of-grooves/
CATEGORIES:Radio
ATTACH;FMTTYPE=:
END:VEVENT
BEGIN:VEVENT
DTSTART;TZID=UTC:20170630T020000
DTEND;TZID=UTC:20170630T030000
DTSTAMP:20260422T173113
CREATED:20170603T060036Z
LAST-MODIFIED:20170603T060036Z
UID:5598-1498788000-1498791600@danielrachel.com
SUMMARY:BBC 5 Live The Record Club
DESCRIPTION:Reappraising 5 star rated classic albums with Richard Foster and special guest contributor Daniel Rachel \nEpisode 5:\nPaul Simon Graceland\nDire Straits Brothers in Arms \n \n  \nEpisode 4:\nMichael Jackson Off The Wall\nLed Zeppelin II \nEpisode 3:\nBruce Springsteen The River\nThe Specials Specials \nEpisode 2:\nJames Brown ‘Live At the Apollo’ (1962)\nREM ‘Automatic For The People’ \nEpisode 1:\nThe Beatles ‘Revolver’\nThe Human League ‘Dare’
URL:https://danielrachel.com/event/bbc-5-live-the-record-club-2/
CATEGORIES:Radio
ATTACH;FMTTYPE=:
END:VEVENT
BEGIN:VEVENT
DTSTART;TZID=UTC:20170526T030000
DTEND;TZID=UTC:20170526T153000
DTSTAMP:20260422T173113
CREATED:20170503T094053Z
LAST-MODIFIED:20170503T094053Z
UID:5548-1495767600-1495812600@danielrachel.com
SUMMARY:BBC Radio 5 Live Fairport Convention special
DESCRIPTION:An exclusive interview with Fairport Convention original member Simon Nicholl. \nSimon will be celebrating the 50th anniversary of Liege and Lief with an special 30 minute in conversation with Daniel Rachel \n \n  \n 
URL:https://danielrachel.com/event/bbc-radio-5-live-fairport-convention-special/
CATEGORIES:Radio
ATTACH;FMTTYPE=:
END:VEVENT
BEGIN:VEVENT
DTSTART;TZID=UTC:20170526T020000
DTEND;TZID=UTC:20170526T030000
DTSTAMP:20260422T173113
CREATED:20170429T162530Z
LAST-MODIFIED:20170429T162530Z
UID:5511-1495764000-1495767600@danielrachel.com
SUMMARY:BBC 5 Live The Record Club
DESCRIPTION:New show reappraising 5 star rated classic albums with Richard Foster and special guest contributor Daniel Rachel \nEpisode 4:\nMichael Jackson Off The Wall\nLed Zeppelin II \n \nEpisode 3:\nBruce Springsteen The River\nThe Specials Specials \nEpisode 2:\nJames Brown ‘Live At the Apollo’ (1962)\nREM ‘Automatic For The People’ \nEpisode 1:\nThe Beatles ‘Revolver’\nThe Human League ‘Dare’
URL:https://danielrachel.com/event/bbc-5-live-the-record-club/
CATEGORIES:Radio
ATTACH;FMTTYPE=:
END:VEVENT
BEGIN:VEVENT
DTSTART;TZID=UTC:20170525T200000
DTEND;TZID=UTC:20170525T220000
DTSTAMP:20260422T173113
CREATED:20170503T094536Z
LAST-MODIFIED:20170503T094536Z
UID:5555-1495742400-1495749600@danielrachel.com
SUMMARY:Radio Woking Walls Come Tumbling Down 2 hour special
DESCRIPTION:Fiery Bird Show featuring Daniel Rachel\nVery happy to announce that my guest on 25 May Fiery Bird Show on Radio Woking is Daniel Rachel – author of ‘Walls Come Tumbling Down – The Music & Politics of Rock Against Racism\, 2Tone and Red Wedge’. Daniel will be joining me to talk about his book where he has brought together the memories and reportage of the people that were there\, that started the movement – musicians\, writers\, photographers\, audience members\, the research\, the movements and the songs that encapsulate those movements. Couldn’t feel more relevant at the moment it will be good to find out more from someone who has painstakingly interviewed\, researched\, recorded and double checked the details. To me\, this is where we leave behind the iconography of old music heroines and really listen to what was being said and what was being done – and what profile is all about and the good that can be done from it. \nSYNOPSIS \nWinner of the Penderyn Music Book Prize\, Walls Come Tumbling Down charts the pivotal period between 1976 and 1992 that saw politics and pop music come together for the first time in Britain’s musical history; musicians and their fans suddenly became instigators of social change\, and ‘the political persuasion of musicians was as important as the songs they sang’. Through the voices of campaigners\, musicians\, artists and politicians\, Daniel Rachel follows the rise and fall of three key movements of the time: Rock Against Racism\, 2 Tone\, and Red Wedge\, revealing how they all shaped\, and were shaped by\, the music of a generation. \nComposed of interviews with over 150 of the key players at the time\, Walls Come Tumbling Down is a fascinating\, polyphonic and authoritative account of those crucial sixteen years in Britain’s history. \nIN THE MEDIA \nA triumphant oral history of Rock Against Racism\, 2 Tone and Red Wedge . . . a tale of resistance: first\, against a surge of racism and bigotry that an inspired group of activists and musicians played a key role in rolling back; and then against a government\, as the same spirit of defiance quickly resurfaced in opposition to the social revolutions of Thatcherism . . . a vivid portrait\nGuardian\nBy the Eighties rock had grown a conscience\, and Walls Come Tumbling Down\, charts how\, in the late Seventies and Eighties\, musicians became engaged in struggled surrounding race\, gender\, sexuality and class\nChoice\nCharts punk\, 2 Tone and then Red Wedge’s subsequent battle for a multicultural Britain in a brilliant account of the period\nQ Magazine \nListen on DAB Digital Radio\nIf you are in the Woking or Rushmoor boroughs\, Radio Woking is available now on DAB Digital Radio.\nJust scan for channels and Radio Woking should appear in your list.  On some radios you will find us listed under “Aldershot Trial” – as we are on DAB thanks to our friends at BFBS Aldershot. \nListen Online\nTo listen online click on the Radio Woking Listen button below. \n \n\n  \nListen using an app on tablet or mobile\nTo listen to Radio Woking on your smartphone or tablet please download the radioplayer app available on IOS\, Android\, Windows Mobile and Amazon Kindle\, open the app and search for “Woking” and Radio Woking will be there.  Blackberry is available with the Tunein app. \non Other Devices\nTo listen to Radio Woking on Playstation 3 and Playstation Vita you will need to download the Tunein app from the Playstation Store then in the app search for “Woking” and Radio Woking will be there.  Samsung and Panasonic connected TV’s also have the app available for download. \nA full list of devices that can use the Tunein app can be found here: http://tunein.com/get-tunein/ \n 
URL:https://danielrachel.com/event/radio-woking-walls-come-tumbling-down-2-hour-special/
CATEGORIES:Radio
ATTACH;FMTTYPE=:
END:VEVENT
BEGIN:VEVENT
DTSTART;TZID=UTC:20170510T153000
DTEND;TZID=UTC:20170510T160000
DTSTAMP:20260422T173113
CREATED:20170503T093448Z
LAST-MODIFIED:20170503T093448Z
UID:5545-1494430200-1494432000@danielrachel.com
SUMMARY:Radio BBC Surrey and Sussex interview
DESCRIPTION:Daniel will be in conversation with Allison Ferns ahead of this evenings ‘in conversation’ with June Miles Kingston at Waterstones Brighton. part of the brighton Festival / City Reads \n\n\n\n\n\n\n\n\n\n\n\n\n\nAfternoon with Allison Ferns\n\nSpend your afternoon in the company of Allison with great music and good conversation. \n\n\n\n\n\n\n\n\n\n\n\n\n\nOn demand\n\n\n\n\n\n\n\n\n  \n\n\n\n\n\n\n\n\n\nBBC SURREY & BBC SUSSEX \n\n\nView Programme information\nAll upcoming (20 NEW)
URL:https://danielrachel.com/event/radio-bbc-surrey-and-sussex-interview/
CATEGORIES:Radio
ATTACH;FMTTYPE=:
END:VEVENT
BEGIN:VEVENT
DTSTART;TZID=UTC:20170428T020000
DTEND;TZID=UTC:20170428T030000
DTSTAMP:20260422T173113
CREATED:20170330T125715Z
LAST-MODIFIED:20170330T125715Z
UID:5466-1493344800-1493348400@danielrachel.com
SUMMARY:BBC Radio 5 'The Record Club'
DESCRIPTION:New show reappraising 5 star rated classic albums with Richard Foster and special guest contributor Daniel Rachel \nEpisode 3: \nBruce Springsteen The River \n \n  \n  \n  \n  \n  \n  \n  \n  \n  \nThe Specials Specials \n \n  \nEpisode 2:\nJames Brown ‘Live At the Apollo’ (1962)\nREM ‘Automatic For The People’ \nEpisode 1:\nThe Beatles ‘Revolver’\nThe Human League ‘Dare’
URL:https://danielrachel.com/event/bbc-radio-5-the-record-club-2/
CATEGORIES:Radio
ATTACH;FMTTYPE=:
END:VEVENT
BEGIN:VEVENT
DTSTART;TZID=UTC:20170324T020000
DTEND;TZID=UTC:20170324T030000
DTSTAMP:20260422T173113
CREATED:20170308T143907Z
LAST-MODIFIED:20170308T143907Z
UID:5454-1490320800-1490324400@danielrachel.com
SUMMARY:BBC Radio 5 'The Record Club'
DESCRIPTION:New show reappraising 5 star rated classic albums with Richard Foster and special guest contributor Daniel Rachel \nEpisode 2: \nJames Brown ‘Live At the Apollo’ (1962) \n \n  \n  \n  \n  \n  \n  \nREM ‘Automatic For The People’ \n \n  \n  \n  \n  \n  \n  \n  \nEpisode 1: \nThe Beatles ‘Revolver’ \nThe Human League ‘Dare’ \n 
URL:https://danielrachel.com/event/bbc-radio-5-the-record-club/
CATEGORIES:Radio
ATTACH;FMTTYPE=:
END:VEVENT
BEGIN:VEVENT
DTSTART;TZID=UTC:20170224T020000
DTEND;TZID=UTC:20170224T030000
DTSTAMP:20260422T173113
CREATED:20170209T144918Z
LAST-MODIFIED:20170209T144918Z
UID:5419-1487901600-1487905200@danielrachel.com
SUMMARY:BBC Radio 5 Up All Night Record Club
DESCRIPTION:New show reappraising 5 star rated classic albums \nEpisode 1: \nThe Beatles ‘Revolver’ \nThe Human League ‘Dare’ \nJoin presenter Richard Foster wth special guest contributor Daniel Rachel \n \n \n 
URL:https://danielrachel.com/event/bbc-radio-5-up-all-night-record-club/
CATEGORIES:Radio
END:VEVENT
BEGIN:VEVENT
DTSTART;TZID=UTC:20140207T150000
DTEND;TZID=UTC:20140207T153000
DTSTAMP:20260422T173113
CREATED:20131218T105909Z
LAST-MODIFIED:20131218T105909Z
UID:3111-1391785200-1391787000@danielrachel.com
SUMMARY:BBC Radio Norfolk
DESCRIPTION:In conversation with Stephen Bumfrey
URL:https://danielrachel.com/event/bbc-radio-norfolk/
CATEGORIES:Radio
END:VEVENT
BEGIN:VEVENT
DTSTART;TZID=UTC:20140131T143000
DTEND;TZID=UTC:20140131T144500
DTSTAMP:20260422T173113
CREATED:20131218T105807Z
LAST-MODIFIED:20131218T105807Z
UID:3101-1391178600-1391179500@danielrachel.com
SUMMARY:BBC Radio South Yorkshire
DESCRIPTION:In conversation with Paulette Edwards\n\nListen online
URL:https://danielrachel.com/event/bbc-radio-south-yorkshire/
CATEGORIES:Radio
END:VEVENT
BEGIN:VEVENT
DTSTART;TZID=UTC:20140128T153000
DTEND;TZID=UTC:20140128T154500
DTSTAMP:20260422T173113
CREATED:20131218T105548Z
LAST-MODIFIED:20131218T105548Z
UID:3091-1390923000-1390923900@danielrachel.com
SUMMARY:BBC Radio Sussex
DESCRIPTION:In conversation with Allison Fearns \nBBC Sussex Afternoon programme 
URL:https://danielrachel.com/event/bbc-radio-sussex/
CATEGORIES:Radio
END:VEVENT
BEGIN:VEVENT
DTSTART;TZID=UTC:20140108T001000
DTEND;TZID=UTC:20140108T002500
DTSTAMP:20260422T173113
CREATED:20131218T105240Z
LAST-MODIFIED:20131218T105240Z
UID:3081-1389139800-1389140700@danielrachel.com
SUMMARY:BBC Radio 2
DESCRIPTION:In conversation with Janice Long\nRadio 2 Janice Long Show
URL:https://danielrachel.com/event/bbc-radio-2/
CATEGORIES:Radio
END:VEVENT
BEGIN:VEVENT
DTSTART;TZID=UTC:20131216T143000
DTEND;TZID=UTC:20131216T144500
DTSTAMP:20260422T173113
CREATED:20131218T104921Z
LAST-MODIFIED:20131218T104921Z
UID:3041-1387204200-1387205100@danielrachel.com
SUMMARY:BBC Radio Manchester
DESCRIPTION:Becky Want Show \nListen Online
URL:https://danielrachel.com/event/bbc-radio-manchester/
CATEGORIES:Radio
END:VEVENT
BEGIN:VEVENT
DTSTART;TZID=UTC:20131216T140000
DTEND;TZID=UTC:20131216T150000
DTSTAMP:20260422T173113
CREATED:20131218T104754Z
LAST-MODIFIED:20131218T104754Z
UID:3031-1387202400-1387206000@danielrachel.com
SUMMARY:BBC Radio Derby
DESCRIPTION:In conversation with Andy Potter and Isle of Noises soundtrack \nListen online
URL:https://danielrachel.com/event/bbc-radio-derby/
CATEGORIES:Radio
END:VEVENT
BEGIN:VEVENT
DTSTART;TZID=UTC:20131204T120000
DTEND;TZID=UTC:20131204T123000
DTSTAMP:20260422T173113
CREATED:20131218T104224Z
LAST-MODIFIED:20131218T104224Z
UID:2991-1386158400-1386160200@danielrachel.com
SUMMARY:BBC 6 Music
DESCRIPTION:Lauren Laverne Show \n6 Music listen now
URL:https://danielrachel.com/event/bbc-6-music/
CATEGORIES:Radio
END:VEVENT
BEGIN:VEVENT
DTSTART;TZID=UTC:20131125T134000
DTEND;TZID=UTC:20131125T135500
DTSTAMP:20260422T173113
CREATED:20131218T110137Z
LAST-MODIFIED:20131218T110137Z
UID:3121-1385386800-1385387700@danielrachel.com
SUMMARY:BBC Radio London
DESCRIPTION:Robert Elms Show \nListen Again to Robert Elms
URL:https://danielrachel.com/event/bbc-radio-london/
CATEGORIES:Radio
END:VEVENT
END:VCALENDAR